Workbook

Sheet Consignes
A1: Tableur de suivi des consommations et coûts en eau de distribution
A2: Dernière révision du fichier : octobre 2026
A4: Consignes pour l'encodage :
B6: Code couleur :
B7: Case à encoder obligatoirement
B8: Case à encoder si pertinent
B9: Case contenant des résultats de calculs et ne pouvant pas être modifiée
A11: Certaines cellules sont protégées et ne peuvent être modifiées car elles contiennent des formules. Cela évite d'éventuelles erreurs de manipulation dans le fichier.
A12: La feuille "suivi annuel" est utilisée pour encoder les informations reprises sur les factures.
A13: La feuille "relevé de compteur" est utilisée si un relevé du compteur est effectué de manière régulière.
A14: Ces feuilles peuvent être multipliées autant de fois que nécessaire (si plusieurs compteurs d'eau par exemple).
A15: Si vous utilisez un "indicateur" dans la feuille "suivi annuel", assurez-vous qu'il correspond à la même période de consommation d'eau.
A16: La feuille "répartition consommations" vous permet de faire un suivi annuel des consommations d'eau selon son origine (eau de distribution, eau de captage, eau pluviale, autre source). Les données encodées dans cette feuille sont indépendantes des données indiquées dans la feuille "suivi annuel" qui est exclusivement consacrée à l'eau de distribution (données provenant des factures).
A18: Pourquoi réaliser un suivi des coûts et des consommations ?
A20: La facturation de la consommation d'eau est de type forfaitaire. L'entreprise doit donc généralement attendre la facture de régularisation annuelle pour connaître le volume d'eau effectivement consommé durant l'année écoulée. Les éventuels problèmes (surconsommation, fuite...) ne peuvent donc être relevés qu'en fin d'année, ce qui peut engendrer une perte financière non négligeable. Un relevé régulier des compteurs est une manière simple d'anticiper ces mauvaises surprises. Idéalement celui-ci est à réaliser régulièrement (tous les mois) afin de pouvoir réagir rapidement en cas d'anomalie.
A21: Exemples de surcoûts engendrés par des installations défectueuses :
A23: Fuite goutte à goutte d'un robinet : ± 4 litres/heure soit ± 200 €/an
A24: Mince filet d'eau continu : ± 16 litres/heure soit ± 800 €/an
A25: Chasse d'eau qui fuit : ± 25 litres/heure soit ± 1.200 €/an
A27: Plus d'infos sur la tarification et le coût-vérité de l'eau sur le site : www.spge.be

Sheet Suivi annuel
A1: Suivi annuel des consommations et coûts en eau (via factures)
A2: =Consignes!A2 -> Dernière révision du fichier : octobre 2026
A4: =IF($E$76=1,$E$77,"")
B6: Début de période | C6: Fin de période | D6: Consommation (m³) | E6: Coût (€) | F6: Durée période (jours) | G6: Consommation journalière moyenne (m³/jour) | H6: Evolution consommation journalière moyenne (%) | I6: Coût journalier moyen (€/jour) | J6: Coût moyen par m³ (€/m³) | K6: =IF(AND($K$22="",$K$23=""),"Indicateur"&CHAR(10)&"(nbre trav., tonnes prod., …)",IF($K$22<>"",$K$22,"Indicateur")&IF($K$23<>"",CHAR(10)&"("&$K$23&")","")) -> Indicateur (nbre trav., tonnes prod., …) | L6: =IF($K$23="","Consommation spécifique"&CHAR(10)&"(m³/indicateur)","Consommation spécifique"&CHAR(10)&"(m³/"&$K$23&")") -> Consommation spécifique (m³/indicateur) | M6: Remarques / Commentaires (indiquez par exemple : fuite importante, fermeture temporaire, changement de production, travaux , nouveau process, action d’économie d’eau, changement tarifaire…)
A7: 2020-2021 | F7: =IF(OR(B7="",C7=""),"",IF(C7<B7,"Vérifier date",C7-B7)) | G7: =IF(OR(D7="",F7="",F7="Vérifier date",F7=0),"",D7/F7) | H7: - | I7: =IF(OR(E7="",F7="",F7="Vérifier date",F7=0),"",E7/F7) | J7: =IF(OR(E7="",D7="",D7=0),"",E7/D7) | L7: =IF(OR(K7="",K7=0,D7=""),"",D7/K7)
A8: 2021-2022 | F8: =IF(OR(B8="",C8=""),"",IF(OR(C8<B8,AND(C7<>"",B8<C7)),"Vérifier date",C8-B8)) | G8: =IF(OR(D8="",F8="",F8="Vérifier date",F8=0),"",D8/F8) | H8: =IF(OR(G8="",G7="",G7=0),"",(G8-G7)/G7) | I8: =IF(OR(E8="",F8="",F8="Vérifier date",F8=0),"",E8/F8) | J8: =IF(OR(E8="",D8="",D8=0),"",E8/D8) | L8: =IF(OR(K8="",K8=0,D8=""),"",D8/K8)
A9: 2022-2023 | F9: =IF(OR(B9="",C9=""),"",IF(OR(C9<B9,AND(C8<>"",B9<C8)),"Vérifier date",C9-B9)) | G9: =IF(OR(D9="",F9="",F9="Vérifier date",F9=0),"",D9/F9) | H9: =IF(OR(G9="",G8="",G8=0),"",(G9-G8)/G8) | I9: =IF(OR(E9="",F9="",F9="Vérifier date",F9=0),"",E9/F9) | J9: =IF(OR(E9="",D9="",D9=0),"",E9/D9) | L9: =IF(OR(K9="",K9=0,D9=""),"",D9/K9)
A10: 2023-2024 | F10: =IF(OR(B10="",C10=""),"",IF(OR(C10<B10,AND(C9<>"",B10<C9)),"Vérifier date",C10-B10)) | G10: =IF(OR(D10="",F10="",F10="Vérifier date",F10=0),"",D10/F10) | H10: =IF(OR(G10="",G9="",G9=0),"",(G10-G9)/G9) | I10: =IF(OR(E10="",F10="",F10="Vérifier date",F10=0),"",E10/F10) | J10: =IF(OR(E10="",D10="",D10=0),"",E10/D10) | L10: =IF(OR(K10="",K10=0,D10=""),"",D10/K10)
A11: 2024-2025 | F11: =IF(OR(B11="",C11=""),"",IF(OR(C11<B11,AND(C10<>"",B11<C10)),"Vérifier date",C11-B11)) | G11: =IF(OR(D11="",F11="",F11="Vérifier date",F11=0),"",D11/F11) | H11: =IF(OR(G11="",G10="",G10=0),"",(G11-G10)/G10) | I11: =IF(OR(E11="",F11="",F11="Vérifier date",F11=0),"",E11/F11) | J11: =IF(OR(E11="",D11="",D11=0),"",E11/D11) | L11: =IF(OR(K11="",K11=0,D11=""),"",D11/K11)
A12: 2025-2026 | F12: =IF(OR(B12="",C12=""),"",IF(OR(C12<B12,AND(C11<>"",B12<C11)),"Vérifier date",C12-B12)) | G12: =IF(OR(D12="",F12="",F12="Vérifier date",F12=0),"",D12/F12) | H12: =IF(OR(G12="",G11="",G11=0),"",(G12-G11)/G11) | I12: =IF(OR(E12="",F12="",F12="Vérifier date",F12=0),"",E12/F12) | J12: =IF(OR(E12="",D12="",D12=0),"",E12/D12) | L12: =IF(OR(K12="",K12=0,D12=""),"",D12/K12)
A13: 2026-2027 | F13: =IF(OR(B13="",C13=""),"",IF(OR(C13<B13,AND(C12<>"",B13<C12)),"Vérifier date",C13-B13)) | G13: =IF(OR(D13="",F13="",F13="Vérifier date",F13=0),"",D13/F13) | H13: =IF(OR(G13="",G12="",G12=0),"",(G13-G12)/G12) | I13: =IF(OR(E13="",F13="",F13="Vérifier date",F13=0),"",E13/F13) | J13: =IF(OR(E13="",D13="",D13=0),"",E13/D13) | L13: =IF(OR(K13="",K13=0,D13=""),"",D13/K13)
A14: 2027-2028 | F14: =IF(OR(B14="",C14=""),"",IF(OR(C14<B14,AND(C13<>"",B14<C13)),"Vérifier date",C14-B14)) | G14: =IF(OR(D14="",F14="",F14="Vérifier date",F14=0),"",D14/F14) | H14: =IF(OR(G14="",G13="",G13=0),"",(G14-G13)/G13) | I14: =IF(OR(E14="",F14="",F14="Vérifier date",F14=0),"",E14/F14) | J14: =IF(OR(E14="",D14="",D14=0),"",E14/D14) | L14: =IF(OR(K14="",K14=0,D14=""),"",D14/K14)
A15: 2028-2029 | F15: =IF(OR(B15="",C15=""),"",IF(OR(C15<B15,AND(C14<>"",B15<C14)),"Vérifier date",C15-B15)) | G15: =IF(OR(D15="",F15="",F15="Vérifier date",F15=0),"",D15/F15) | H15: =IF(OR(G15="",G14="",G14=0),"",(G15-G14)/G14) | I15: =IF(OR(E15="",F15="",F15="Vérifier date",F15=0),"",E15/F15) | J15: =IF(OR(E15="",D15="",D15=0),"",E15/D15) | L15: =IF(OR(K15="",K15=0,D15=""),"",D15/K15)
A16: 2029-2030 | F16: =IF(OR(B16="",C16=""),"",IF(OR(C16<B16,AND(C15<>"",B16<C15)),"Vérifier date",C16-B16)) | G16: =IF(OR(D16="",F16="",F16="Vérifier date",F16=0),"",D16/F16) | H16: =IF(OR(G16="",G15="",G15=0),"",(G16-G15)/G15) | I16: =IF(OR(E16="",F16="",F16="Vérifier date",F16=0),"",E16/F16) | J16: =IF(OR(E16="",D16="",D16=0),"",E16/D16) | L16: =IF(OR(K16="",K16=0,D16=""),"",D16/K16)
A17: 2030-2031 | F17: =IF(OR(B17="",C17=""),"",IF(OR(C17<B17,AND(C16<>"",B17<C16)),"Vérifier date",C17-B17)) | G17: =IF(OR(D17="",F17="",F17="Vérifier date",F17=0),"",D17/F17) | H17: =IF(OR(G17="",G16="",G16=0),"",(G17-G16)/G16) | I17: =IF(OR(E17="",F17="",F17="Vérifier date",F17=0),"",E17/F17) | J17: =IF(OR(E17="",D17="",D17=0),"",E17/D17) | L17: =IF(OR(K17="",K17=0,D17=""),"",D17/K17)
A18: 2031-2032 | F18: =IF(OR(B18="",C18=""),"",IF(OR(C18<B18,AND(C17<>"",B18<C17)),"Vérifier date",C18-B18)) | G18: =IF(OR(D18="",F18="",F18="Vérifier date",F18=0),"",D18/F18) | H18: =IF(OR(G18="",G17="",G17=0),"",(G18-G17)/G17) | I18: =IF(OR(E18="",F18="",F18="Vérifier date",F18=0),"",E18/F18) | J18: =IF(OR(E18="",D18="",D18=0),"",E18/D18) | L18: =IF(OR(K18="",K18=0,D18=""),"",D18/K18)
C19: TOTAL | D19: =SUM(D7:D18) -> 0 | E19: =SUM(E7:E18) -> 0
I21: Choisissez votre indicateur pertinent et son unité
I22: Nom de l'indicateur :
I23: Unité choisie : | L23: =IF($K$23<>"","Consommation spécifique (m³/"&$K$23&")","Consommation spécifique (m³/indicateur)") -> Consommation spécifique (m³/indicateur)
A70: Easter egg (seuil modifiable comme on le souhaite) | D70: Seuil requis | E70: Résultat utilisateur
A71: Nombre de périodes annuelles complètes encodées | D71: 2 | E71: {=SUMPRODUCT(($D$7:$D$18>0)*($E$7:$E$18>0)*($F$7:$F$18>0))} -> 0 | F71: Compte les périodes avec une consommation et un coût > 0 et une durée de période valide
A72: Indicateur personnalisé complet | D72: 1 | E72: =IF(AND($K$22<>"",$K$23<>""),1,0) -> 0 | F72: Vaut 1 si le nom ET l'unité de l'indicateur personnalisé sont renseignés
A73: Nombre de périodes encodées avec indicateur | D73: 2 | E73: =COUNTIF($K$7:$K$18,">0") -> 0 | F73: Compte les périodes pour lesquelles l'indicateur personnalisé est renseigné
A74: Nombre de relevés de compteurs | D74: 5 | E74: {=SUMPRODUCT(('Relevé de compteur'!$A$8:$A$65<>"")*('Relevé de compteur'!$B$8:$B$65<>""))} -> 0 | F74: Compte les relevés de compteur réellement renseignés
A75: Nombre d'années avec répartition | D75: 2 | E75: =COUNTIF('Répartition consommations'!$H$6:$H$17,">0") -> 0 | F75: Compte les années pour lesquelles une répartition des approvisionnements est renseignée
C76: Easter egg activé ? | E76: =IF(AND(E71>=D71,E72>=D72,E73>=D73,E74>=D74,E75>=D75),1,0) -> 0 | F76: Détermine si easter egg activé selon les critères atteints
C77: Message easter egg | E77: 💧 Bravo, vous avez exploré toutes les fonctionnalités de ce tableur ! Le plus intéressant commence maintenant : suivre, comparer et progresser. À vous de faire parler vos données ! >> Votre expérience peut être utile à d’autres entreprises et votre retour peut nous aider à améliorer cet outil. N’hésitez pas à nous contacter pour en discuter via environnement@akt.be. <<

Sheet Relevé de compteur
A1: Suivi des consommations en eau (via relevé de compteur) | G1: Voir aussi les graphiques plus bas sur la page
A2: =Consignes!A2 -> Dernière révision du fichier : octobre 2026
A4: Avant de débuter les relevés, vérifiez si une unité d'index correspond bien à une consommation de 1 m³ d'eau. Le cas échéant, corrigez la valeur dans la case B5 (par défaut 1 index = 1 m³)
A5: 1 unité d'index = | B5: 1 | C5: m³ d'eau | E5: Nom ou n° de référence compteur :
I6: Pour graphique conso journalière moyenne
A7: Date du relevé | B7: Index | C7: Durée période (jours) | D7: Consommation depuis le dernier relevé (m³) | E7: Consommation cumulée (m³) | F7: Consommation journalière moyenne depuis le dernier relevé (m³/jour) | G7: Remarques / Commentaires (indiquez par exemple : fuite importante, fermeture temporaire, changement de production, travaux , nouveau process, action d’économie d’eau…) | I7: Date | J7: Index
C8: - | D8: - | E8: - | F8: - | I8: =IF(A8="","",A8) | J8: =IF(F9="",NA(),F9) -> #N/A
C9: =IF(OR(A9="",A8=""),"",IF(A9<A8,"Vérifier date",IF(A9-A8<1,"",A9-A8))) | D9: =IF(OR(B9="",B8=""),"",IF(B9-B8<0,"Vérifier index",((B9-B8)*$B$5))) | E9: =IF(OR(D9="",D9="Vérifier index"),"",D9) | F9: =IF(OR(C9="",C9="Vérifier date",D9="Vérifier index",B9=""),"",D9/C9) | I9: =IF(A9="","",A9) | J9: =IF(F9="",NA(),F9) -> #N/A
C10: =IF(OR(A10="",A9=""),"",IF(A10<A9,"Vérifier date",IF(A10-A9<1,"",A10-A9))) | D10: =IF(OR(B10="",B9=""),"",IF(B10-B9<0,"Vérifier index",((B10-B9)*$B$5))) | E10: =IF(OR(D10="",D10="Vérifier index",E9=""),"",E9+D10) | F10: =IF(OR(C10="",C10="Vérifier date",D10="Vérifier index",B10=""),"",D10/C10) | I10: =IF(I9="","",I9+1) | J10: =IF(F10="",NA(),F10) -> #N/A
C11: =IF(OR(A11="",A10=""),"",IF(A11<A10,"Vérifier date",IF(A11-A10<1,"",A11-A10))) | D11: =IF(OR(B11="",B10=""),"",IF(B11-B10<0,"Vérifier index",((B11-B10)*$B$5))) | E11: =IF(OR(D11="",D11="Vérifier index",E10=""),"",E10+D11) | F11: =IF(OR(C11="",C11="Vérifier date",D11="Vérifier index",B11=""),"",D11/C11) | I11: =IF(A10="","",A10) | J11: =J10 -> #N/A
C12: =IF(OR(A12="",A11=""),"",IF(A12<A11,"Vérifier date",IF(A12-A11<1,"",A12-A11))) | D12: =IF(OR(B12="",B11=""),"",IF(B12-B11<0,"Vérifier index",((B12-B11)*$B$5))) | E12: =IF(OR(D12="",D12="Vérifier index",E11=""),"",E11+D12) | F12: =IF(OR(C12="",C12="Vérifier date",D12="Vérifier index",B12=""),"",D12/C12) | I12: =IF(I11="","",I11+1) | J12: =IF(F11="",NA(),F11) -> #N/A
C13: =IF(OR(A13="",A12=""),"",IF(A13<A12,"Vérifier date",IF(A13-A12<1,"",A13-A12))) | D13: =IF(OR(B13="",B12=""),"",IF(B13-B12<0,"Vérifier index",((B13-B12)*$B$5))) | E13: =IF(OR(D13="",D13="Vérifier index",E12=""),"",E12+D13) | F13: =IF(OR(C13="",C13="Vérifier date",D13="Vérifier index",B13=""),"",D13/C13) | I13: =IF(A11="","",A11) | J13: =J12 -> #N/A
C14: =IF(OR(A14="",A13=""),"",IF(A14<A13,"Vérifier date",IF(A14-A13<1,"",A14-A13))) | D14: =IF(OR(B14="",B13=""),"",IF(B14-B13<0,"Vérifier index",((B14-B13)*$B$5))) | E14: =IF(OR(D14="",D14="Vérifier index",E13=""),"",E13+D14) | F14: =IF(OR(C14="",C14="Vérifier date",D14="Vérifier index",B14=""),"",D14/C14) | I14: =IF(I13="","",I13+1) | J14: =IF(F12="",NA(),F12) -> #N/A
C15: =IF(OR(A15="",A14=""),"",IF(A15<A14,"Vérifier date",IF(A15-A14<1,"",A15-A14))) | D15: =IF(OR(B15="",B14=""),"",IF(B15-B14<0,"Vérifier index",((B15-B14)*$B$5))) | E15: =IF(OR(D15="",D15="Vérifier index",E14=""),"",E14+D15) | F15: =IF(OR(C15="",C15="Vérifier date",D15="Vérifier index",B15=""),"",D15/C15) | I15: =IF(A12="","",A12) | J15: =J14 -> #N/A
C16: =IF(OR(A16="",A15=""),"",IF(A16<A15,"Vérifier date",IF(A16-A15<1,"",A16-A15))) | D16: =IF(OR(B16="",B15=""),"",IF(B16-B15<0,"Vérifier index",((B16-B15)*$B$5))) | E16: =IF(OR(D16="",D16="Vérifier index",E15=""),"",E15+D16) | F16: =IF(OR(C16="",C16="Vérifier date",D16="Vérifier index",B16=""),"",D16/C16) | I16: =IF(I15="","",I15+1) | J16: =IF(F13="",NA(),F13) -> #N/A
C17: =IF(OR(A17="",A16=""),"",IF(A17<A16,"Vérifier date",IF(A17-A16<1,"",A17-A16))) | D17: =IF(OR(B17="",B16=""),"",IF(B17-B16<0,"Vérifier index",((B17-B16)*$B$5))) | E17: =IF(OR(D17="",D17="Vérifier index",E16=""),"",E16+D17) | F17: =IF(OR(C17="",C17="Vérifier date",D17="Vérifier index",B17=""),"",D17/C17) | I17: =IF(A13="","",A13) | J17: =J16 -> #N/A
C18: =IF(OR(A18="",A17=""),"",IF(A18<A17,"Vérifier date",IF(A18-A17<1,"",A18-A17))) | D18: =IF(OR(B18="",B17=""),"",IF(B18-B17<0,"Vérifier index",((B18-B17)*$B$5))) | E18: =IF(OR(D18="",D18="Vérifier index",E17=""),"",E17+D18) | F18: =IF(OR(C18="",C18="Vérifier date",D18="Vérifier index",B18=""),"",D18/C18) | I18: =IF(I17="","",I17+1) | J18: =IF(F14="",NA(),F14) -> #N/A
C19: =IF(OR(A19="",A18=""),"",IF(A19<A18,"Vérifier date",IF(A19-A18<1,"",A19-A18))) | D19: =IF(OR(B19="",B18=""),"",IF(B19-B18<0,"Vérifier index",((B19-B18)*$B$5))) | E19: =IF(OR(D19="",D19="Vérifier index",E18=""),"",E18+D19) | F19: =IF(OR(C19="",C19="Vérifier date",D19="Vérifier index",B19=""),"",D19/C19) | I19: =IF(A14="","",A14) | J19: =J18 -> #N/A
C20: =IF(OR(A20="",A19=""),"",IF(A20<A19,"Vérifier date",IF(A20-A19<1,"",A20-A19))) | D20: =IF(OR(B20="",B19=""),"",IF(B20-B19<0,"Vérifier index",((B20-B19)*$B$5))) | E20: =IF(OR(D20="",D20="Vérifier index",E19=""),"",E19+D20) | F20: =IF(OR(C20="",C20="Vérifier date",D20="Vérifier index",B20=""),"",D20/C20) | I20: =IF(I19="","",I19+1) | J20: =IF(F15="",NA(),F15) -> #N/A
C21: =IF(OR(A21="",A20=""),"",IF(A21<A20,"Vérifier date",IF(A21-A20<1,"",A21-A20))) | D21: =IF(OR(B21="",B20=""),"",IF(B21-B20<0,"Vérifier index",((B21-B20)*$B$5))) | E21: =IF(OR(D21="",D21="Vérifier index",E20=""),"",E20+D21) | F21: =IF(OR(C21="",C21="Vérifier date",D21="Vérifier index",B21=""),"",D21/C21) | I21: =IF(A15="","",A15) | J21: =J20 -> #N/A
C22: =IF(OR(A22="",A21=""),"",IF(A22<A21,"Vérifier date",IF(A22-A21<1,"",A22-A21))) | D22: =IF(OR(B22="",B21=""),"",IF(B22-B21<0,"Vérifier index",((B22-B21)*$B$5))) | E22: =IF(OR(D22="",D22="Vérifier index",E21=""),"",E21+D22) | F22: =IF(OR(C22="",C22="Vérifier date",D22="Vérifier index",B22=""),"",D22/C22) | I22: =IF(I21="","",I21+1) | J22: =IF(F16="",NA(),F16) -> #N/A
C23: =IF(OR(A23="",A22=""),"",IF(A23<A22,"Vérifier date",IF(A23-A22<1,"",A23-A22))) | D23: =IF(OR(B23="",B22=""),"",IF(B23-B22<0,"Vérifier index",((B23-B22)*$B$5))) | E23: =IF(OR(D23="",D23="Vérifier index",E22=""),"",E22+D23) | F23: =IF(OR(C23="",C23="Vérifier date",D23="Vérifier index",B23=""),"",D23/C23) | I23: =IF(A16="","",A16) | J23: =J22 -> #N/A
C24: =IF(OR(A24="",A23=""),"",IF(A24<A23,"Vérifier date",IF(A24-A23<1,"",A24-A23))) | D24: =IF(OR(B24="",B23=""),"",IF(B24-B23<0,"Vérifier index",((B24-B23)*$B$5))) | E24: =IF(OR(D24="",D24="Vérifier index",E23=""),"",E23+D24) | F24: =IF(OR(C24="",C24="Vérifier date",D24="Vérifier index",B24=""),"",D24/C24) | I24: =IF(I23="","",I23+1) | J24: =IF(F17="",NA(),F17) -> #N/A
C25: =IF(OR(A25="",A24=""),"",IF(A25<A24,"Vérifier date",IF(A25-A24<1,"",A25-A24))) | D25: =IF(OR(B25="",B24=""),"",IF(B25-B24<0,"Vérifier index",((B25-B24)*$B$5))) | E25: =IF(OR(D25="",D25="Vérifier index",E24=""),"",E24+D25) | F25: =IF(OR(C25="",C25="Vérifier date",D25="Vérifier index",B25=""),"",D25/C25) | I25: =IF(A17="","",A17) | J25: =J24 -> #N/A
C26: =IF(OR(A26="",A25=""),"",IF(A26<A25,"Vérifier date",IF(A26-A25<1,"",A26-A25))) | D26: =IF(OR(B26="",B25=""),"",IF(B26-B25<0,"Vérifier index",((B26-B25)*$B$5))) | E26: =IF(OR(D26="",D26="Vérifier index",E25=""),"",E25+D26) | F26: =IF(OR(C26="",C26="Vérifier date",D26="Vérifier index",B26=""),"",D26/C26) | I26: =IF(I25="","",I25+1) | J26: =IF(F18="",NA(),F18) -> #N/A
C27: =IF(OR(A27="",A26=""),"",IF(A27<A26,"Vérifier date",IF(A27-A26<1,"",A27-A26))) | D27: =IF(OR(B27="",B26=""),"",IF(B27-B26<0,"Vérifier index",((B27-B26)*$B$5))) | E27: =IF(OR(D27="",D27="Vérifier index",E26=""),"",E26+D27) | F27: =IF(OR(C27="",C27="Vérifier date",D27="Vérifier index",B27=""),"",D27/C27) | I27: =IF(A18="","",A18) | J27: =J26 -> #N/A
C28: =IF(OR(A28="",A27=""),"",IF(A28<A27,"Vérifier date",IF(A28-A27<1,"",A28-A27))) | D28: =IF(OR(B28="",B27=""),"",IF(B28-B27<0,"Vérifier index",((B28-B27)*$B$5))) | E28: =IF(OR(D28="",D28="Vérifier index",E27=""),"",E27+D28) | F28: =IF(OR(C28="",C28="Vérifier date",D28="Vérifier index",B28=""),"",D28/C28) | I28: =IF(I27="","",I27+1) | J28: =IF(F19="",NA(),F19) -> #N/A
C29: =IF(OR(A29="",A28=""),"",IF(A29<A28,"Vérifier date",IF(A29-A28<1,"",A29-A28))) | D29: =IF(OR(B29="",B28=""),"",IF(B29-B28<0,"Vérifier index",((B29-B28)*$B$5))) | E29: =IF(OR(D29="",D29="Vérifier index",E28=""),"",E28+D29) | F29: =IF(OR(C29="",C29="Vérifier date",D29="Vérifier index",B29=""),"",D29/C29) | I29: =IF(A19="","",A19) | J29: =J28 -> #N/A
C30: =IF(OR(A30="",A29=""),"",IF(A30<A29,"Vérifier date",IF(A30-A29<1,"",A30-A29))) | D30: =IF(OR(B30="",B29=""),"",IF(B30-B29<0,"Vérifier index",((B30-B29)*$B$5))) | E30: =IF(OR(D30="",D30="Vérifier index",E29=""),"",E29+D30) | F30: =IF(OR(C30="",C30="Vérifier date",D30="Vérifier index",B30=""),"",D30/C30) | I30: =IF(I29="","",I29+1) | J30: =IF(F20="",NA(),F20) -> #N/A
C31: =IF(OR(A31="",A30=""),"",IF(A31<A30,"Vérifier date",IF(A31-A30<1,"",A31-A30))) | D31: =IF(OR(B31="",B30=""),"",IF(B31-B30<0,"Vérifier index",((B31-B30)*$B$5))) | E31: =IF(OR(D31="",D31="Vérifier index",E30=""),"",E30+D31) | F31: =IF(OR(C31="",C31="Vérifier date",D31="Vérifier index",B31=""),"",D31/C31) | I31: =IF(A20="","",A20) | J31: =J30 -> #N/A
C32: =IF(OR(A32="",A31=""),"",IF(A32<A31,"Vérifier date",IF(A32-A31<1,"",A32-A31))) | D32: =IF(OR(B32="",B31=""),"",IF(B32-B31<0,"Vérifier index",((B32-B31)*$B$5))) | E32: =IF(OR(D32="",D32="Vérifier index",E31=""),"",E31+D32) | F32: =IF(OR(C32="",C32="Vérifier date",D32="Vérifier index",B32=""),"",D32/C32) | I32: =IF(I31="","",I31+1) | J32: =IF(F21="",NA(),F21) -> #N/A
C33: =IF(OR(A33="",A32=""),"",IF(A33<A32,"Vérifier date",IF(A33-A32<1,"",A33-A32))) | D33: =IF(OR(B33="",B32=""),"",IF(B33-B32<0,"Vérifier index",((B33-B32)*$B$5))) | E33: =IF(OR(D33="",D33="Vérifier index",E32=""),"",E32+D33) | F33: =IF(OR(C33="",C33="Vérifier date",D33="Vérifier index",B33=""),"",D33/C33) | I33: =IF(A21="","",A21) | J33: =J32 -> #N/A
C34: =IF(OR(A34="",A33=""),"",IF(A34<A33,"Vérifier date",IF(A34-A33<1,"",A34-A33))) | D34: =IF(OR(B34="",B33=""),"",IF(B34-B33<0,"Vérifier index",((B34-B33)*$B$5))) | E34: =IF(OR(D34="",D34="Vérifier index",E33=""),"",E33+D34) | F34: =IF(OR(C34="",C34="Vérifier date",D34="Vérifier index",B34=""),"",D34/C34) | I34: =IF(I33="","",I33+1) | J34: =IF(F22="",NA(),F22) -> #N/A
C35: =IF(OR(A35="",A34=""),"",IF(A35<A34,"Vérifier date",IF(A35-A34<1,"",A35-A34))) | D35: =IF(OR(B35="",B34=""),"",IF(B35-B34<0,"Vérifier index",((B35-B34)*$B$5))) | E35: =IF(OR(D35="",D35="Vérifier index",E34=""),"",E34+D35) | F35: =IF(OR(C35="",C35="Vérifier date",D35="Vérifier index",B35=""),"",D35/C35) | I35: =IF(A22="","",A22) | J35: =J34 -> #N/A
C36: =IF(OR(A36="",A35=""),"",IF(A36<A35,"Vérifier date",IF(A36-A35<1,"",A36-A35))) | D36: =IF(OR(B36="",B35=""),"",IF(B36-B35<0,"Vérifier index",((B36-B35)*$B$5))) | E36: =IF(OR(D36="",D36="Vérifier index",E35=""),"",E35+D36) | F36: =IF(OR(C36="",C36="Vérifier date",D36="Vérifier index",B36=""),"",D36/C36) | I36: =IF(I35="","",I35+1) | J36: =IF(F23="",NA(),F23) -> #N/A
C37: =IF(OR(A37="",A36=""),"",IF(A37<A36,"Vérifier date",IF(A37-A36<1,"",A37-A36))) | D37: =IF(OR(B37="",B36=""),"",IF(B37-B36<0,"Vérifier index",((B37-B36)*$B$5))) | E37: =IF(OR(D37="",D37="Vérifier index",E36=""),"",E36+D37) | F37: =IF(OR(C37="",C37="Vérifier date",D37="Vérifier index",B37=""),"",D37/C37) | I37: =IF(A23="","",A23) | J37: =J36 -> #N/A
C38: =IF(OR(A38="",A37=""),"",IF(A38<A37,"Vérifier date",IF(A38-A37<1,"",A38-A37))) | D38: =IF(OR(B38="",B37=""),"",IF(B38-B37<0,"Vérifier index",((B38-B37)*$B$5))) | E38: =IF(OR(D38="",D38="Vérifier index",E37=""),"",E37+D38) | F38: =IF(OR(C38="",C38="Vérifier date",D38="Vérifier index",B38=""),"",D38/C38) | I38: =IF(I37="","",I37+1) | J38: =IF(F24="",NA(),F24) -> #N/A
C39: =IF(OR(A39="",A38=""),"",IF(A39<A38,"Vérifier date",IF(A39-A38<1,"",A39-A38))) | D39: =IF(OR(B39="",B38=""),"",IF(B39-B38<0,"Vérifier index",((B39-B38)*$B$5))) | E39: =IF(OR(D39="",D39="Vérifier index",E38=""),"",E38+D39) | F39: =IF(OR(C39="",C39="Vérifier date",D39="Vérifier index",B39=""),"",D39/C39) | I39: =IF(A24="","",A24) | J39: =J38 -> #N/A
C40: =IF(OR(A40="",A39=""),"",IF(A40<A39,"Vérifier date",IF(A40-A39<1,"",A40-A39))) | D40: =IF(OR(B40="",B39=""),"",IF(B40-B39<0,"Vérifier index",((B40-B39)*$B$5))) | E40: =IF(OR(D40="",D40="Vérifier index",E39=""),"",E39+D40) | F40: =IF(OR(C40="",C40="Vérifier date",D40="Vérifier index",B40=""),"",D40/C40) | I40: =IF(I39="","",I39+1) | J40: =IF(F25="",NA(),F25) -> #N/A
C41: =IF(OR(A41="",A40=""),"",IF(A41<A40,"Vérifier date",IF(A41-A40<1,"",A41-A40))) | D41: =IF(OR(B41="",B40=""),"",IF(B41-B40<0,"Vérifier index",((B41-B40)*$B$5))) | E41: =IF(OR(D41="",D41="Vérifier index",E40=""),"",E40+D41) | F41: =IF(OR(C41="",C41="Vérifier date",D41="Vérifier index",B41=""),"",D41/C41) | I41: =IF(A25="","",A25) | J41: =J40 -> #N/A
C42: =IF(OR(A42="",A41=""),"",IF(A42<A41,"Vérifier date",IF(A42-A41<1,"",A42-A41))) | D42: =IF(OR(B42="",B41=""),"",IF(B42-B41<0,"Vérifier index",((B42-B41)*$B$5))) | E42: =IF(OR(D42="",D42="Vérifier index",E41=""),"",E41+D42) | F42: =IF(OR(C42="",C42="Vérifier date",D42="Vérifier index",B42=""),"",D42/C42) | I42: =IF(I41="","",I41+1) | J42: =IF(F26="",NA(),F26) -> #N/A
C43: =IF(OR(A43="",A42=""),"",IF(A43<A42,"Vérifier date",IF(A43-A42<1,"",A43-A42))) | D43: =IF(OR(B43="",B42=""),"",IF(B43-B42<0,"Vérifier index",((B43-B42)*$B$5))) | E43: =IF(OR(D43="",D43="Vérifier index",E42=""),"",E42+D43) | F43: =IF(OR(C43="",C43="Vérifier date",D43="Vérifier index",B43=""),"",D43/C43) | I43: =IF(A26="","",A26) | J43: =J42 -> #N/A
C44: =IF(OR(A44="",A43=""),"",IF(A44<A43,"Vérifier date",IF(A44-A43<1,"",A44-A43))) | D44: =IF(OR(B44="",B43=""),"",IF(B44-B43<0,"Vérifier index",((B44-B43)*$B$5))) | E44: =IF(OR(D44="",D44="Vérifier index",E43=""),"",E43+D44) | F44: =IF(OR(C44="",C44="Vérifier date",D44="Vérifier index",B44=""),"",D44/C44) | I44: =IF(I43="","",I43+1) | J44: =IF(F27="",NA(),F27) -> #N/A
C45: =IF(OR(A45="",A44=""),"",IF(A45<A44,"Vérifier date",IF(A45-A44<1,"",A45-A44))) | D45: =IF(OR(B45="",B44=""),"",IF(B45-B44<0,"Vérifier index",((B45-B44)*$B$5))) | E45: =IF(OR(D45="",D45="Vérifier index",E44=""),"",E44+D45) | F45: =IF(OR(C45="",C45="Vérifier date",D45="Vérifier index",B45=""),"",D45/C45) | I45: =IF(A27="","",A27) | J45: =J44 -> #N/A
C46: =IF(OR(A46="",A45=""),"",IF(A46<A45,"Vérifier date",IF(A46-A45<1,"",A46-A45))) | D46: =IF(OR(B46="",B45=""),"",IF(B46-B45<0,"Vérifier index",((B46-B45)*$B$5))) | E46: =IF(OR(D46="",D46="Vérifier index",E45=""),"",E45+D46) | F46: =IF(OR(C46="",C46="Vérifier date",D46="Vérifier index",B46=""),"",D46/C46) | I46: =IF(I45="","",I45+1) | J46: =IF(F28="",NA(),F28) -> #N/A
C47: =IF(OR(A47="",A46=""),"",IF(A47<A46,"Vérifier date",IF(A47-A46<1,"",A47-A46))) | D47: =IF(OR(B47="",B46=""),"",IF(B47-B46<0,"Vérifier index",((B47-B46)*$B$5))) | E47: =IF(OR(D47="",D47="Vérifier index",E46=""),"",E46+D47) | F47: =IF(OR(C47="",C47="Vérifier date",D47="Vérifier index",B47=""),"",D47/C47) | I47: =IF(A28="","",A28) | J47: =J46 -> #N/A
C48: =IF(OR(A48="",A47=""),"",IF(A48<A47,"Vérifier date",IF(A48-A47<1,"",A48-A47))) | D48: =IF(OR(B48="",B47=""),"",IF(B48-B47<0,"Vérifier index",((B48-B47)*$B$5))) | E48: =IF(OR(D48="",D48="Vérifier index",E47=""),"",E47+D48) | F48: =IF(OR(C48="",C48="Vérifier date",D48="Vérifier index",B48=""),"",D48/C48) | I48: =IF(I47="","",I47+1) | J48: =IF(F29="",NA(),F29) -> #N/A
C49: =IF(OR(A49="",A48=""),"",IF(A49<A48,"Vérifier date",IF(A49-A48<1,"",A49-A48))) | D49: =IF(OR(B49="",B48=""),"",IF(B49-B48<0,"Vérifier index",((B49-B48)*$B$5))) | E49: =IF(OR(D49="",D49="Vérifier index",E48=""),"",E48+D49) | F49: =IF(OR(C49="",C49="Vérifier date",D49="Vérifier index",B49=""),"",D49/C49) | I49: =IF(A29="","",A29) | J49: =J48 -> #N/A
C50: =IF(OR(A50="",A49=""),"",IF(A50<A49,"Vérifier date",IF(A50-A49<1,"",A50-A49))) | D50: =IF(OR(B50="",B49=""),"",IF(B50-B49<0,"Vérifier index",((B50-B49)*$B$5))) | E50: =IF(OR(D50="",D50="Vérifier index",E49=""),"",E49+D50) | F50: =IF(OR(C50="",C50="Vérifier date",D50="Vérifier index",B50=""),"",D50/C50) | I50: =IF(I49="","",I49+1) | J50: =IF(F30="",NA(),F30) -> #N/A
C51: =IF(OR(A51="",A50=""),"",IF(A51<A50,"Vérifier date",IF(A51-A50<1,"",A51-A50))) | D51: =IF(OR(B51="",B50=""),"",IF(B51-B50<0,"Vérifier index",((B51-B50)*$B$5))) | E51: =IF(OR(D51="",D51="Vérifier index",E50=""),"",E50+D51) | F51: =IF(OR(C51="",C51="Vérifier date",D51="Vérifier index",B51=""),"",D51/C51) | I51: =IF(A30="","",A30) | J51: =J50 -> #N/A
C52: =IF(OR(A52="",A51=""),"",IF(A52<A51,"Vérifier date",IF(A52-A51<1,"",A52-A51))) | D52: =IF(OR(B52="",B51=""),"",IF(B52-B51<0,"Vérifier index",((B52-B51)*$B$5))) | E52: =IF(OR(D52="",D52="Vérifier index",E51=""),"",E51+D52) | F52: =IF(OR(C52="",C52="Vérifier date",D52="Vérifier index",B52=""),"",D52/C52) | I52: =IF(I51="","",I51+1) | J52: =IF(F31="",NA(),F31) -> #N/A
C53: =IF(OR(A53="",A52=""),"",IF(A53<A52,"Vérifier date",IF(A53-A52<1,"",A53-A52))) | D53: =IF(OR(B53="",B52=""),"",IF(B53-B52<0,"Vérifier index",((B53-B52)*$B$5))) | E53: =IF(OR(D53="",D53="Vérifier index",E52=""),"",E52+D53) | F53: =IF(OR(C53="",C53="Vérifier date",D53="Vérifier index",B53=""),"",D53/C53) | I53: =IF(A31="","",A31) | J53: =J52 -> #N/A
C54: =IF(OR(A54="",A53=""),"",IF(A54<A53,"Vérifier date",IF(A54-A53<1,"",A54-A53))) | D54: =IF(OR(B54="",B53=""),"",IF(B54-B53<0,"Vérifier index",((B54-B53)*$B$5))) | E54: =IF(OR(D54="",D54="Vérifier index",E53=""),"",E53+D54) | F54: =IF(OR(C54="",C54="Vérifier date",D54="Vérifier index",B54=""),"",D54/C54) | I54: =IF(I53="","",I53+1) | J54: =IF(F32="",NA(),F32) -> #N/A
C55: =IF(OR(A55="",A54=""),"",IF(A55<A54,"Vérifier date",IF(A55-A54<1,"",A55-A54))) | D55: =IF(OR(B55="",B54=""),"",IF(B55-B54<0,"Vérifier index",((B55-B54)*$B$5))) | E55: =IF(OR(D55="",D55="Vérifier index",E54=""),"",E54+D55) | F55: =IF(OR(C55="",C55="Vérifier date",D55="Vérifier index",B55=""),"",D55/C55) | I55: =IF(A32="","",A32) | J55: =J54 -> #N/A
C56: =IF(OR(A56="",A55=""),"",IF(A56<A55,"Vérifier date",IF(A56-A55<1,"",A56-A55))) | D56: =IF(OR(B56="",B55=""),"",IF(B56-B55<0,"Vérifier index",((B56-B55)*$B$5))) | E56: =IF(OR(D56="",D56="Vérifier index",E55=""),"",E55+D56) | F56: =IF(OR(C56="",C56="Vérifier date",D56="Vérifier index",B56=""),"",D56/C56) | I56: =IF(I55="","",I55+1) | J56: =IF(F33="",NA(),F33) -> #N/A
C57: =IF(OR(A57="",A56=""),"",IF(A57<A56,"Vérifier date",IF(A57-A56<1,"",A57-A56))) | D57: =IF(OR(B57="",B56=""),"",IF(B57-B56<0,"Vérifier index",((B57-B56)*$B$5))) | E57: =IF(OR(D57="",D57="Vérifier index",E56=""),"",E56+D57) | F57: =IF(OR(C57="",C57="Vérifier date",D57="Vérifier index",B57=""),"",D57/C57) | I57: =IF(A33="","",A33) | J57: =J56 -> #N/A
C58: =IF(OR(A58="",A57=""),"",IF(A58<A57,"Vérifier date",IF(A58-A57<1,"",A58-A57))) | D58: =IF(OR(B58="",B57=""),"",IF(B58-B57<0,"Vérifier index",((B58-B57)*$B$5))) | E58: =IF(OR(D58="",D58="Vérifier index",E57=""),"",E57+D58) | F58: =IF(OR(C58="",C58="Vérifier date",D58="Vérifier index",B58=""),"",D58/C58) | I58: =IF(I57="","",I57+1) | J58: =IF(F34="",NA(),F34) -> #N/A
C59: =IF(OR(A59="",A58=""),"",IF(A59<A58,"Vérifier date",IF(A59-A58<1,"",A59-A58))) | D59: =IF(OR(B59="",B58=""),"",IF(B59-B58<0,"Vérifier index",((B59-B58)*$B$5))) | E59: =IF(OR(D59="",D59="Vérifier index",E58=""),"",E58+D59) | F59: =IF(OR(C59="",C59="Vérifier date",D59="Vérifier index",B59=""),"",D59/C59) | I59: =IF(A34="","",A34) | J59: =J58 -> #N/A
C60: =IF(OR(A60="",A59=""),"",IF(A60<A59,"Vérifier date",IF(A60-A59<1,"",A60-A59))) | D60: =IF(OR(B60="",B59=""),"",IF(B60-B59<0,"Vérifier index",((B60-B59)*$B$5))) | E60: =IF(OR(D60="",D60="Vérifier index",E59=""),"",E59+D60) | F60: =IF(OR(C60="",C60="Vérifier date",D60="Vérifier index",B60=""),"",D60/C60) | I60: =IF(I59="","",I59+1) | J60: =IF(F35="",NA(),F35) -> #N/A
C61: =IF(OR(A61="",A60=""),"",IF(A61<A60,"Vérifier date",IF(A61-A60<1,"",A61-A60))) | D61: =IF(OR(B61="",B60=""),"",IF(B61-B60<0,"Vérifier index",((B61-B60)*$B$5))) | E61: =IF(OR(D61="",D61="Vérifier index",E60=""),"",E60+D61) | F61: =IF(OR(C61="",C61="Vérifier date",D61="Vérifier index",B61=""),"",D61/C61) | I61: =IF(A35="","",A35) | J61: =J60 -> #N/A
C62: =IF(OR(A62="",A61=""),"",IF(A62<A61,"Vérifier date",IF(A62-A61<1,"",A62-A61))) | D62: =IF(OR(B62="",B61=""),"",IF(B62-B61<0,"Vérifier index",((B62-B61)*$B$5))) | E62: =IF(OR(D62="",D62="Vérifier index",E61=""),"",E61+D62) | F62: =IF(OR(C62="",C62="Vérifier date",D62="Vérifier index",B62=""),"",D62/C62) | I62: =IF(I61="","",I61+1) | J62: =IF(F36="",NA(),F36) -> #N/A
C63: =IF(OR(A63="",A62=""),"",IF(A63<A62,"Vérifier date",IF(A63-A62<1,"",A63-A62))) | D63: =IF(OR(B63="",B62=""),"",IF(B63-B62<0,"Vérifier index",((B63-B62)*$B$5))) | E63: =IF(OR(D63="",D63="Vérifier index",E62=""),"",E62+D63) | F63: =IF(OR(C63="",C63="Vérifier date",D63="Vérifier index",B63=""),"",D63/C63) | I63: =IF(A36="","",A36) | J63: =J62 -> #N/A
C64: =IF(OR(A64="",A63=""),"",IF(A64<A63,"Vérifier date",IF(A64-A63<1,"",A64-A63))) | D64: =IF(OR(B64="",B63=""),"",IF(B64-B63<0,"Vérifier index",((B64-B63)*$B$5))) | E64: =IF(OR(D64="",D64="Vérifier index",E63=""),"",E63+D64) | F64: =IF(OR(C64="",C64="Vérifier date",D64="Vérifier index",B64=""),"",D64/C64) | I64: =IF(I63="","",I63+1) | J64: =IF(F37="",NA(),F37) -> #N/A
C65: =IF(OR(A65="",A64=""),"",IF(A65<A64,"Vérifier date",IF(A65-A64<1,"",A65-A64))) | D65: =IF(OR(B65="",B64=""),"",IF(B65-B64<0,"Vérifier index",((B65-B64)*$B$5))) | E65: =IF(OR(D65="",D65="Vérifier index",E64=""),"",E64+D65) | F65: =IF(OR(C65="",C65="Vérifier date",D65="Vérifier index",B65=""),"",D65/C65) | I65: =IF(A37="","",A37) | J65: =J64 -> #N/A
C66: TOTAL | D66: =IF(COUNTIF(D8:D65,"Vérifier index")>0,"Vérifier index",SUM(D8:D65)) -> 0 | I66: =IF(I65="","",I65+1) | J66: =IF(F38="",NA(),F38) -> #N/A
I67: =IF(A38="","",A38) | J67: =J66 -> #N/A
I68: =IF(I67="","",I67+1) | J68: =IF(F39="",NA(),F39) -> #N/A
I69: =IF(A39="","",A39) | J69: =J68 -> #N/A
I70: =IF(I69="","",I69+1) | J70: =IF(F40="",NA(),F40) -> #N/A
I71: =IF(A40="","",A40) | J71: =J70 -> #N/A
I72: =IF(I71="","",I71+1) | J72: =IF(F41="",NA(),F41) -> #N/A
I73: =IF(A41="","",A41) | J73: =J72 -> #N/A
I74: =IF(I73="","",I73+1) | J74: =IF(F42="",NA(),F42) -> #N/A
I75: =IF(A42="","",A42) | J75: =J74 -> #N/A
I76: =IF(I75="","",I75+1) | J76: =IF(F43="",NA(),F43) -> #N/A
I77: =IF(A43="","",A43) | J77: =J76 -> #N/A
I78: =IF(I77="","",I77+1) | J78: =IF(F44="",NA(),F44) -> #N/A
I79: =IF(A44="","",A44) | J79: =J78 -> #N/A
I80: =IF(I79="","",I79+1) | J80: =IF(F45="",NA(),F45) -> #N/A
I81: =IF(A45="","",A45) | J81: =J80 -> #N/A
I82: =IF(I81="","",I81+1) | J82: =IF(F46="",NA(),F46) -> #N/A
I83: =IF(A46="","",A46) | J83: =J82 -> #N/A
I84: =IF(I83="","",I83+1) | J84: =IF(F47="",NA(),F47) -> #N/A
I85: =IF(A47="","",A47) | J85: =J84 -> #N/A
I86: =IF(I85="","",I85+1) | J86: =IF(F48="",NA(),F48) -> #N/A
I87: =IF(A48="","",A48) | J87: =J86 -> #N/A
I88: =IF(I87="","",I87+1) | J88: =IF(F49="",NA(),F49) -> #N/A
I89: =IF(A49="","",A49) | J89: =J88 -> #N/A
I90: =IF(I89="","",I89+1) | J90: =IF(F50="",NA(),F50) -> #N/A
I91: =IF(A50="","",A50) | J91: =J90 -> #N/A
I92: =IF(I91="","",I91+1) | J92: =IF(F51="",NA(),F51) -> #N/A
I93: =IF(A51="","",A51) | J93: =J92 -> #N/A
I94: =IF(I93="","",I93+1) | J94: =IF(F52="",NA(),F52) -> #N/A
I95: =IF(A52="","",A52) | J95: =J94 -> #N/A
I96: =IF(I95="","",I95+1) | J96: =IF(F53="",NA(),F53) -> #N/A
I97: =IF(A53="","",A53) | J97: =J96 -> #N/A
I98: =IF(I97="","",I97+1) | J98: =IF(F54="",NA(),F54) -> #N/A
I99: =IF(A54="","",A54) | J99: =J98 -> #N/A
I100: =IF(I99="","",I99+1) | J100: =IF(F55="",NA(),F55) -> #N/A
I101: =IF(A55="","",A55) | J101: =J100 -> #N/A
...

Sheet Répartition consommations
A1: Répartition de la consommation d'eau par type d'approvisionnement
A2: =Consignes!A2 -> Dernière révision du fichier : octobre 2026
J4: Répartition des consommations par type d'approvisionnement
B5: Eau de distribution (m³) | C5: Eau de captage - souterraine (m³) | D5: Eau de captage - surface (m³) | E5: Eau de pluie utilisée (m³) | F5: =IF(F21="","Autre source 1",F21)&CHAR(10)&"(m³)" -> Autre source 1 (m³) | G5: =IF(G21="","Autre source 2",G21)&CHAR(10)&"(m³)" -> Autre source 2 (m³) | H5: Total (m³) | I5: Evolution consommation totale (%) | J5: % eau de distribution | K5: % eau de captage (souterraine) | L5: % eau de captage (surface) | M5: % eau de pluie | N5: =IF($F$21="","%"&CHAR(10)&$F$20,"%"&CHAR(10)&$F$21) -> % Autre source 1 | O5: =IF($G$21="","%"&CHAR(10)&$G$20,"%"&CHAR(10)&$G$21) -> % Autre source 2 | P5: Remarques / Commentaires (indiquez par exemple : fuite importante, fermeture temporaire, changement de production, travaux , nouveau process, action d’économie d’eau, changement tarifaire…)
A6: 2021 | H6: =IF(COUNTA(B6:G6)=0,"",SUM(B6:G6)) | J6: =IF(OR($H6="",$H6=0),"",B6/$H6) | K6: =IF(OR($H6="",$H6=0),"",C6/$H6) | L6: =IF(OR($H6="",$H6=0),"",D6/$H6) | M6: =IF(OR($H6="",$H6=0),"",E6/$H6) | N6: =IF(OR($H6="",$H6=0),"",F6/$H6) | O6: =IF(OR($H6="",$H6=0),"",G6/$H6) | R6: =SUBSTITUTE(B5,CHAR(10)&"(m³)","") -> Eau de distribution | S6: {=INDEX($B$6:$G$17,MATCH($E$46,$A$6:$A$17,0),ROWS($S$6:S6))} -> 0
A7: 2022 | H7: =IF(COUNTA(B7:G7)=0,"",SUM(B7:G7)) | I7: =IF(OR(H7="",H6="",H6=0),"",(H7-H6)/H6) | J7: =IF(OR($H7="",$H7=0),"",B7/$H7) | K7: =IF(OR($H7="",$H7=0),"",C7/$H7) | L7: =IF(OR($H7="",$H7=0),"",D7/$H7) | M7: =IF(OR($H7="",$H7=0),"",E7/$H7) | N7: =IF(OR($H7="",$H7=0),"",F7/$H7) | O7: =IF(OR($H7="",$H7=0),"",G7/$H7) | R7: =SUBSTITUTE(C5,CHAR(10)&"(m³)","") -> Eau de captage - souterraine | S7: {=INDEX($B$6:$G$17,MATCH($E$46,$A$6:$A$17,0),ROWS($S$6:S7))} -> 0
A8: 2023 | H8: =IF(COUNTA(B8:G8)=0,"",SUM(B8:G8)) | I8: =IF(OR(H8="",H7="",H7=0),"",(H8-H7)/H7) | J8: =IF(OR($H8="",$H8=0),"",B8/$H8) | K8: =IF(OR($H8="",$H8=0),"",C8/$H8) | L8: =IF(OR($H8="",$H8=0),"",D8/$H8) | M8: =IF(OR($H8="",$H8=0),"",E8/$H8) | N8: =IF(OR($H8="",$H8=0),"",F8/$H8) | O8: =IF(OR($H8="",$H8=0),"",G8/$H8) | R8: =SUBSTITUTE(D5,CHAR(10)&"(m³)","") -> Eau de captage - surface | S8: {=INDEX($B$6:$G$17,MATCH($E$46,$A$6:$A$17,0),ROWS($S$6:S8))} -> 0
A9: 2024 | H9: =IF(COUNTA(B9:G9)=0,"",SUM(B9:G9)) | I9: =IF(OR(H9="",H8="",H8=0),"",(H9-H8)/H8) | J9: =IF(OR($H9="",$H9=0),"",B9/$H9) | K9: =IF(OR($H9="",$H9=0),"",C9/$H9) | L9: =IF(OR($H9="",$H9=0),"",D9/$H9) | M9: =IF(OR($H9="",$H9=0),"",E9/$H9) | N9: =IF(OR($H9="",$H9=0),"",F9/$H9) | O9: =IF(OR($H9="",$H9=0),"",G9/$H9) | R9: =SUBSTITUTE(E5,CHAR(10)&"(m³)","") -> Eau de pluie utilisée | S9: {=INDEX($B$6:$G$17,MATCH($E$46,$A$6:$A$17,0),ROWS($S$6:S9))} -> 0
A10: 2025 | H10: =IF(COUNTA(B10:G10)=0,"",SUM(B10:G10)) | I10: =IF(OR(H10="",H9="",H9=0),"",(H10-H9)/H9) | J10: =IF(OR($H10="",$H10=0),"",B10/$H10) | K10: =IF(OR($H10="",$H10=0),"",C10/$H10) | L10: =IF(OR($H10="",$H10=0),"",D10/$H10) | M10: =IF(OR($H10="",$H10=0),"",E10/$H10) | N10: =IF(OR($H10="",$H10=0),"",F10/$H10) | O10: =IF(OR($H10="",$H10=0),"",G10/$H10) | R10: =SUBSTITUTE(F5,CHAR(10)&"(m³)","") -> Autre source 1 | S10: {=INDEX($B$6:$G$17,MATCH($E$46,$A$6:$A$17,0),ROWS($S$6:S10))} -> 0
A11: 2026 | H11: =IF(COUNTA(B11:G11)=0,"",SUM(B11:G11)) | I11: =IF(OR(H11="",H10="",H10=0),"",(H11-H10)/H10) | J11: =IF(OR($H11="",$H11=0),"",B11/$H11) | K11: =IF(OR($H11="",$H11=0),"",C11/$H11) | L11: =IF(OR($H11="",$H11=0),"",D11/$H11) | M11: =IF(OR($H11="",$H11=0),"",E11/$H11) | N11: =IF(OR($H11="",$H11=0),"",F11/$H11) | O11: =IF(OR($H11="",$H11=0),"",G11/$H11) | R11: =SUBSTITUTE(G5,CHAR(10)&"(m³)","") -> Autre source 2 | S11: {=INDEX($B$6:$G$17,MATCH($E$46,$A$6:$A$17,0),ROWS($S$6:S11))} -> 0
A12: 2027 | H12: =IF(COUNTA(B12:G12)=0,"",SUM(B12:G12)) | I12: =IF(OR(H12="",H11="",H11=0),"",(H12-H11)/H11) | J12: =IF(OR($H12="",$H12=0),"",B12/$H12) | K12: =IF(OR($H12="",$H12=0),"",C12/$H12) | L12: =IF(OR($H12="",$H12=0),"",D12/$H12) | M12: =IF(OR($H12="",$H12=0),"",E12/$H12) | N12: =IF(OR($H12="",$H12=0),"",F12/$H12) | O12: =IF(OR($H12="",$H12=0),"",G12/$H12)
A13: 2028 | H13: =IF(COUNTA(B13:G13)=0,"",SUM(B13:G13)) | I13: =IF(OR(H13="",H12="",H12=0),"",(H13-H12)/H12) | J13: =IF(OR($H13="",$H13=0),"",B13/$H13) | K13: =IF(OR($H13="",$H13=0),"",C13/$H13) | L13: =IF(OR($H13="",$H13=0),"",D13/$H13) | M13: =IF(OR($H13="",$H13=0),"",E13/$H13) | N13: =IF(OR($H13="",$H13=0),"",F13/$H13) | O13: =IF(OR($H13="",$H13=0),"",G13/$H13)
A14: 2029 | H14: =IF(COUNTA(B14:G14)=0,"",SUM(B14:G14)) | I14: =IF(OR(H14="",H13="",H13=0),"",(H14-H13)/H13) | J14: =IF(OR($H14="",$H14=0),"",B14/$H14) | K14: =IF(OR($H14="",$H14=0),"",C14/$H14) | L14: =IF(OR($H14="",$H14=0),"",D14/$H14) | M14: =IF(OR($H14="",$H14=0),"",E14/$H14) | N14: =IF(OR($H14="",$H14=0),"",F14/$H14) | O14: =IF(OR($H14="",$H14=0),"",G14/$H14)
A15: 2030 | H15: =IF(COUNTA(B15:G15)=0,"",SUM(B15:G15)) | I15: =IF(OR(H15="",H14="",H14=0),"",(H15-H14)/H14) | J15: =IF(OR($H15="",$H15=0),"",B15/$H15) | K15: =IF(OR($H15="",$H15=0),"",C15/$H15) | L15: =IF(OR($H15="",$H15=0),"",D15/$H15) | M15: =IF(OR($H15="",$H15=0),"",E15/$H15) | N15: =IF(OR($H15="",$H15=0),"",F15/$H15) | O15: =IF(OR($H15="",$H15=0),"",G15/$H15)
A16: 2031 | H16: =IF(COUNTA(B16:G16)=0,"",SUM(B16:G16)) | I16: =IF(OR(H16="",H15="",H15=0),"",(H16-H15)/H15) | J16: =IF(OR($H16="",$H16=0),"",B16/$H16) | K16: =IF(OR($H16="",$H16=0),"",C16/$H16) | L16: =IF(OR($H16="",$H16=0),"",D16/$H16) | M16: =IF(OR($H16="",$H16=0),"",E16/$H16) | N16: =IF(OR($H16="",$H16=0),"",F16/$H16) | O16: =IF(OR($H16="",$H16=0),"",G16/$H16)
A17: 2032 | H17: =IF(COUNTA(B17:G17)=0,"",SUM(B17:G17)) | I17: =IF(OR(H17="",H16="",H16=0),"",(H17-H16)/H16) | J17: =IF(OR($H17="",$H17=0),"",B17/$H17) | K17: =IF(OR($H17="",$H17=0),"",C17/$H17) | L17: =IF(OR($H17="",$H17=0),"",D17/$H17) | M17: =IF(OR($H17="",$H17=0),"",E17/$H17) | N17: =IF(OR($H17="",$H17=0),"",F17/$H17) | O17: =IF(OR($H17="",$H17=0),"",G17/$H17)
A18: TOTAL | B18: =SUM(B6:B17) -> 0 | C18: =SUM(C6:C17) -> 0 | D18: =SUM(D6:D17) -> 0 | E18: =SUM(E6:E17) -> 0 | F18: =SUM(F6:F17) -> 0 | G18: =SUM(G6:G17) -> 0
E20: Changer les appellations | F20: Autre source 1 | G20: Autre source 2
E21: par :
B45: Graphique annuel de répartition par type d'approvisionnement
B46: Année que vous souhaitez visualiser : | E46: 2021
